BEGIN:VCALENDAR
VERSION:2.0
PRODID:-//RIGHTHERE//CALENDARIZE IT V3.2//EN
BEGIN:VTIMEZONE
TZID:Europe/Stockholm
BEGIN:STANDARD
DTSTART:20251026T010000
TZOFFSETFROM:+0200
TZOFFSETTO:+0100
TZNAME:CET
END:STANDARD
BEGIN:DAYLIGHT
DTSTART:20260329T010000
TZOFFSETFROM:+0100
TZOFFSETTO:+0200
TZNAME:CEST
END:DAYLIGHT
BEGIN:STANDARD
DTSTART:20261025T010000
TZOFFSETFROM:+0200
TZOFFSETTO:+0100
TZNAME:CET
END:STANDARD
END:VTIMEZONE
BEGIN:VEVENT
UID:179-events@matkalender.nu
DTSTART;VALUE=DATE:20211008
DTEND;VALUE=DATE:20211008
DTSTAMP;TZID=Europe/Stockholm:20190222T163852
SUMMARY:Äggets dag
RRULE:FREQ=YEARLY;INTERVAL=1
URL:https://matkalender.nu/events/aggets-dag/
END:VEVENT
END:VCALENDAR